BEGIN:VCALENDAR
VERSION:2.0
PRODID:-//PMA - ECPv6.15.20//NONSGML v1.0//EN
CALSCALE:GREGORIAN
METHOD:PUBLISH
X-WR-CALNAME:PMA
X-ORIGINAL-URL:https://pmawebsite.org
X-WR-CALDESC:Events for PMA
REFRESH-INTERVAL;VALUE=DURATION:PT1H
X-Robots-Tag:noindex
X-PUBLISHED-TTL:PT1H
BEGIN:VTIMEZONE
TZID:UTC
BEGIN:STANDARD
TZOFFSETFROM:+0000
TZOFFSETTO:+0000
TZNAME:UTC
DTSTART:20270101T000000
END:STANDARD
END:VTIMEZONE
BEGIN:VEVENT
DTSTART;TZID=UTC:20280114T133000
DTEND;TZID=UTC:20280114T140000
DTSTAMP:20260421T114733
CREATED:20240217T173042Z
LAST-MODIFIED:20240217T173044Z
UID:10000215-1831469400-1831471200@pmawebsite.org
SUMMARY:Weekly Jummah
DESCRIPTION: 
URL:https://pmawebsite.org/event/weekly-jummah-2/2028-01-14/
LOCATION:Mosque\, 361 Villa St. Mountain View\, CA 94041\, CA\, 94041\, United States
ORGANIZER;CN="PMA":MAILTO:admin@pmawebsite.org
END:VEVENT
BEGIN:VEVENT
DTSTART;TZID=UTC:20280121T133000
DTEND;TZID=UTC:20280121T140000
DTSTAMP:20260421T114734
CREATED:20240217T173042Z
LAST-MODIFIED:20240217T173044Z
UID:10000216-1832074200-1832076000@pmawebsite.org
SUMMARY:Weekly Jummah
DESCRIPTION: 
URL:https://pmawebsite.org/event/weekly-jummah-2/2028-01-21/
LOCATION:Mosque\, 361 Villa St. Mountain View\, CA 94041\, CA\, 94041\, United States
ORGANIZER;CN="PMA":MAILTO:admin@pmawebsite.org
END:VEVENT
BEGIN:VEVENT
DTSTART;TZID=UTC:20280128T133000
DTEND;TZID=UTC:20280128T140000
DTSTAMP:20260421T114734
CREATED:20240217T173042Z
LAST-MODIFIED:20240217T173044Z
UID:10000217-1832679000-1832680800@pmawebsite.org
SUMMARY:Weekly Jummah
DESCRIPTION: 
URL:https://pmawebsite.org/event/weekly-jummah-2/2028-01-28/
LOCATION:Mosque\, 361 Villa St. Mountain View\, CA 94041\, CA\, 94041\, United States
ORGANIZER;CN="PMA":MAILTO:admin@pmawebsite.org
END:VEVENT
BEGIN:VEVENT
DTSTART;TZID=UTC:20280204T133000
DTEND;TZID=UTC:20280204T140000
DTSTAMP:20260421T114734
CREATED:20240217T173042Z
LAST-MODIFIED:20240217T173044Z
UID:10000218-1833283800-1833285600@pmawebsite.org
SUMMARY:Weekly Jummah
DESCRIPTION: 
URL:https://pmawebsite.org/event/weekly-jummah-2/2028-02-04/
LOCATION:Mosque\, 361 Villa St. Mountain View\, CA 94041\, CA\, 94041\, United States
ORGANIZER;CN="PMA":MAILTO:admin@pmawebsite.org
END:VEVENT
BEGIN:VEVENT
DTSTART;TZID=UTC:20280211T133000
DTEND;TZID=UTC:20280211T140000
DTSTAMP:20260421T114734
CREATED:20240217T173042Z
LAST-MODIFIED:20240217T173044Z
UID:10000219-1833888600-1833890400@pmawebsite.org
SUMMARY:Weekly Jummah
DESCRIPTION: 
URL:https://pmawebsite.org/event/weekly-jummah-2/2028-02-11/
LOCATION:Mosque\, 361 Villa St. Mountain View\, CA 94041\, CA\, 94041\, United States
ORGANIZER;CN="PMA":MAILTO:admin@pmawebsite.org
END:VEVENT
BEGIN:VEVENT
DTSTART;TZID=UTC:20280218T133000
DTEND;TZID=UTC:20280218T140000
DTSTAMP:20260421T114734
CREATED:20240217T173042Z
LAST-MODIFIED:20240217T173044Z
UID:10000220-1834493400-1834495200@pmawebsite.org
SUMMARY:Weekly Jummah
DESCRIPTION: 
URL:https://pmawebsite.org/event/weekly-jummah-2/2028-02-18/
LOCATION:Mosque\, 361 Villa St. Mountain View\, CA 94041\, CA\, 94041\, United States
ORGANIZER;CN="PMA":MAILTO:admin@pmawebsite.org
END:VEVENT
BEGIN:VEVENT
DTSTART;TZID=UTC:20280225T133000
DTEND;TZID=UTC:20280225T140000
DTSTAMP:20260421T114734
CREATED:20240217T173042Z
LAST-MODIFIED:20240217T173044Z
UID:10000221-1835098200-1835100000@pmawebsite.org
SUMMARY:Weekly Jummah
DESCRIPTION: 
URL:https://pmawebsite.org/event/weekly-jummah-2/2028-02-25/
LOCATION:Mosque\, 361 Villa St. Mountain View\, CA 94041\, CA\, 94041\, United States
ORGANIZER;CN="PMA":MAILTO:admin@pmawebsite.org
END:VEVENT
BEGIN:VEVENT
DTSTART;TZID=UTC:20280303T133000
DTEND;TZID=UTC:20280303T140000
DTSTAMP:20260421T114734
CREATED:20240217T173042Z
LAST-MODIFIED:20240217T173044Z
UID:10000222-1835703000-1835704800@pmawebsite.org
SUMMARY:Weekly Jummah
DESCRIPTION: 
URL:https://pmawebsite.org/event/weekly-jummah-2/2028-03-03/
LOCATION:Mosque\, 361 Villa St. Mountain View\, CA 94041\, CA\, 94041\, United States
ORGANIZER;CN="PMA":MAILTO:admin@pmawebsite.org
END:VEVENT
BEGIN:VEVENT
DTSTART;TZID=UTC:20280310T133000
DTEND;TZID=UTC:20280310T140000
DTSTAMP:20260421T114734
CREATED:20240217T173042Z
LAST-MODIFIED:20240217T173044Z
UID:10000223-1836307800-1836309600@pmawebsite.org
SUMMARY:Weekly Jummah
DESCRIPTION: 
URL:https://pmawebsite.org/event/weekly-jummah-2/2028-03-10/
LOCATION:Mosque\, 361 Villa St. Mountain View\, CA 94041\, CA\, 94041\, United States
ORGANIZER;CN="PMA":MAILTO:admin@pmawebsite.org
END:VEVENT
BEGIN:VEVENT
DTSTART;TZID=UTC:20280317T133000
DTEND;TZID=UTC:20280317T140000
DTSTAMP:20260421T114734
CREATED:20240217T173042Z
LAST-MODIFIED:20240217T173044Z
UID:10000224-1836912600-1836914400@pmawebsite.org
SUMMARY:Weekly Jummah
DESCRIPTION: 
URL:https://pmawebsite.org/event/weekly-jummah-2/2028-03-17/
LOCATION:Mosque\, 361 Villa St. Mountain View\, CA 94041\, CA\, 94041\, United States
ORGANIZER;CN="PMA":MAILTO:admin@pmawebsite.org
END:VEVENT
BEGIN:VEVENT
DTSTART;TZID=UTC:20280324T133000
DTEND;TZID=UTC:20280324T140000
DTSTAMP:20260421T114734
CREATED:20240217T173042Z
LAST-MODIFIED:20240217T173044Z
UID:10000225-1837517400-1837519200@pmawebsite.org
SUMMARY:Weekly Jummah
DESCRIPTION: 
URL:https://pmawebsite.org/event/weekly-jummah-2/2028-03-24/
LOCATION:Mosque\, 361 Villa St. Mountain View\, CA 94041\, CA\, 94041\, United States
ORGANIZER;CN="PMA":MAILTO:admin@pmawebsite.org
END:VEVENT
BEGIN:VEVENT
DTSTART;TZID=UTC:20280331T133000
DTEND;TZID=UTC:20280331T140000
DTSTAMP:20260421T114734
CREATED:20240217T173042Z
LAST-MODIFIED:20240217T173044Z
UID:10000226-1838122200-1838124000@pmawebsite.org
SUMMARY:Weekly Jummah
DESCRIPTION: 
URL:https://pmawebsite.org/event/weekly-jummah-2/2028-03-31/
LOCATION:Mosque\, 361 Villa St. Mountain View\, CA 94041\, CA\, 94041\, United States
ORGANIZER;CN="PMA":MAILTO:admin@pmawebsite.org
END:VEVENT
BEGIN:VEVENT
DTSTART;TZID=UTC:20280407T133000
DTEND;TZID=UTC:20280407T140000
DTSTAMP:20260421T114734
CREATED:20240217T173042Z
LAST-MODIFIED:20240217T173044Z
UID:10000227-1838727000-1838728800@pmawebsite.org
SUMMARY:Weekly Jummah
DESCRIPTION: 
URL:https://pmawebsite.org/event/weekly-jummah-2/2028-04-07/
LOCATION:Mosque\, 361 Villa St. Mountain View\, CA 94041\, CA\, 94041\, United States
ORGANIZER;CN="PMA":MAILTO:admin@pmawebsite.org
END:VEVENT
BEGIN:VEVENT
DTSTART;TZID=UTC:20280414T133000
DTEND;TZID=UTC:20280414T140000
DTSTAMP:20260421T114734
CREATED:20240217T173042Z
LAST-MODIFIED:20240217T173044Z
UID:10000228-1839331800-1839333600@pmawebsite.org
SUMMARY:Weekly Jummah
DESCRIPTION: 
URL:https://pmawebsite.org/event/weekly-jummah-2/2028-04-14/
LOCATION:Mosque\, 361 Villa St. Mountain View\, CA 94041\, CA\, 94041\, United States
ORGANIZER;CN="PMA":MAILTO:admin@pmawebsite.org
END:VEVENT
BEGIN:VEVENT
DTSTART;TZID=UTC:20280421T133000
DTEND;TZID=UTC:20280421T140000
DTSTAMP:20260421T114734
CREATED:20240217T173042Z
LAST-MODIFIED:20240217T173044Z
UID:10000229-1839936600-1839938400@pmawebsite.org
SUMMARY:Weekly Jummah
DESCRIPTION: 
URL:https://pmawebsite.org/event/weekly-jummah-2/2028-04-21/
LOCATION:Mosque\, 361 Villa St. Mountain View\, CA 94041\, CA\, 94041\, United States
ORGANIZER;CN="PMA":MAILTO:admin@pmawebsite.org
END:VEVENT
BEGIN:VEVENT
DTSTART;TZID=UTC:20280428T133000
DTEND;TZID=UTC:20280428T140000
DTSTAMP:20260421T114734
CREATED:20240217T173042Z
LAST-MODIFIED:20240217T173044Z
UID:10000230-1840541400-1840543200@pmawebsite.org
SUMMARY:Weekly Jummah
DESCRIPTION: 
URL:https://pmawebsite.org/event/weekly-jummah-2/2028-04-28/
LOCATION:Mosque\, 361 Villa St. Mountain View\, CA 94041\, CA\, 94041\, United States
ORGANIZER;CN="PMA":MAILTO:admin@pmawebsite.org
END:VEVENT
BEGIN:VEVENT
DTSTART;TZID=UTC:20280505T133000
DTEND;TZID=UTC:20280505T140000
DTSTAMP:20260421T114734
CREATED:20240217T173042Z
LAST-MODIFIED:20240217T173044Z
UID:10000231-1841146200-1841148000@pmawebsite.org
SUMMARY:Weekly Jummah
DESCRIPTION: 
URL:https://pmawebsite.org/event/weekly-jummah-2/2028-05-05/
LOCATION:Mosque\, 361 Villa St. Mountain View\, CA 94041\, CA\, 94041\, United States
ORGANIZER;CN="PMA":MAILTO:admin@pmawebsite.org
END:VEVENT
BEGIN:VEVENT
DTSTART;TZID=UTC:20280512T133000
DTEND;TZID=UTC:20280512T140000
DTSTAMP:20260421T114734
CREATED:20240217T173042Z
LAST-MODIFIED:20240217T173044Z
UID:10000232-1841751000-1841752800@pmawebsite.org
SUMMARY:Weekly Jummah
DESCRIPTION: 
URL:https://pmawebsite.org/event/weekly-jummah-2/2028-05-12/
LOCATION:Mosque\, 361 Villa St. Mountain View\, CA 94041\, CA\, 94041\, United States
ORGANIZER;CN="PMA":MAILTO:admin@pmawebsite.org
END:VEVENT
BEGIN:VEVENT
DTSTART;TZID=UTC:20280519T133000
DTEND;TZID=UTC:20280519T140000
DTSTAMP:20260421T114734
CREATED:20240217T173042Z
LAST-MODIFIED:20240217T173044Z
UID:10000233-1842355800-1842357600@pmawebsite.org
SUMMARY:Weekly Jummah
DESCRIPTION: 
URL:https://pmawebsite.org/event/weekly-jummah-2/2028-05-19/
LOCATION:Mosque\, 361 Villa St. Mountain View\, CA 94041\, CA\, 94041\, United States
ORGANIZER;CN="PMA":MAILTO:admin@pmawebsite.org
END:VEVENT
BEGIN:VEVENT
DTSTART;TZID=UTC:20280526T133000
DTEND;TZID=UTC:20280526T140000
DTSTAMP:20260421T114734
CREATED:20240217T173042Z
LAST-MODIFIED:20240217T173044Z
UID:10000234-1842960600-1842962400@pmawebsite.org
SUMMARY:Weekly Jummah
DESCRIPTION: 
URL:https://pmawebsite.org/event/weekly-jummah-2/2028-05-26/
LOCATION:Mosque\, 361 Villa St. Mountain View\, CA 94041\, CA\, 94041\, United States
ORGANIZER;CN="PMA":MAILTO:admin@pmawebsite.org
END:VEVENT
BEGIN:VEVENT
DTSTART;TZID=UTC:20280602T133000
DTEND;TZID=UTC:20280602T140000
DTSTAMP:20260421T114734
CREATED:20240217T173042Z
LAST-MODIFIED:20240217T173044Z
UID:10000235-1843565400-1843567200@pmawebsite.org
SUMMARY:Weekly Jummah
DESCRIPTION: 
URL:https://pmawebsite.org/event/weekly-jummah-2/2028-06-02/
LOCATION:Mosque\, 361 Villa St. Mountain View\, CA 94041\, CA\, 94041\, United States
ORGANIZER;CN="PMA":MAILTO:admin@pmawebsite.org
END:VEVENT
BEGIN:VEVENT
DTSTART;TZID=UTC:20280609T133000
DTEND;TZID=UTC:20280609T140000
DTSTAMP:20260421T114734
CREATED:20240217T173042Z
LAST-MODIFIED:20240217T173044Z
UID:10000236-1844170200-1844172000@pmawebsite.org
SUMMARY:Weekly Jummah
DESCRIPTION: 
URL:https://pmawebsite.org/event/weekly-jummah-2/2028-06-09/
LOCATION:Mosque\, 361 Villa St. Mountain View\, CA 94041\, CA\, 94041\, United States
ORGANIZER;CN="PMA":MAILTO:admin@pmawebsite.org
END:VEVENT
BEGIN:VEVENT
DTSTART;TZID=UTC:20280616T133000
DTEND;TZID=UTC:20280616T140000
DTSTAMP:20260421T114734
CREATED:20240217T173042Z
LAST-MODIFIED:20240217T173044Z
UID:10000237-1844775000-1844776800@pmawebsite.org
SUMMARY:Weekly Jummah
DESCRIPTION: 
URL:https://pmawebsite.org/event/weekly-jummah-2/2028-06-16/
LOCATION:Mosque\, 361 Villa St. Mountain View\, CA 94041\, CA\, 94041\, United States
ORGANIZER;CN="PMA":MAILTO:admin@pmawebsite.org
END:VEVENT
BEGIN:VEVENT
DTSTART;TZID=UTC:20280623T133000
DTEND;TZID=UTC:20280623T140000
DTSTAMP:20260421T114734
CREATED:20240217T173042Z
LAST-MODIFIED:20240217T173044Z
UID:10000238-1845379800-1845381600@pmawebsite.org
SUMMARY:Weekly Jummah
DESCRIPTION: 
URL:https://pmawebsite.org/event/weekly-jummah-2/2028-06-23/
LOCATION:Mosque\, 361 Villa St. Mountain View\, CA 94041\, CA\, 94041\, United States
ORGANIZER;CN="PMA":MAILTO:admin@pmawebsite.org
END:VEVENT
BEGIN:VEVENT
DTSTART;TZID=UTC:20280630T133000
DTEND;TZID=UTC:20280630T140000
DTSTAMP:20260421T114734
CREATED:20240217T173042Z
LAST-MODIFIED:20240217T173044Z
UID:10000239-1845984600-1845986400@pmawebsite.org
SUMMARY:Weekly Jummah
DESCRIPTION: 
URL:https://pmawebsite.org/event/weekly-jummah-2/2028-06-30/
LOCATION:Mosque\, 361 Villa St. Mountain View\, CA 94041\, CA\, 94041\, United States
ORGANIZER;CN="PMA":MAILTO:admin@pmawebsite.org
END:VEVENT
BEGIN:VEVENT
DTSTART;TZID=UTC:20280707T133000
DTEND;TZID=UTC:20280707T140000
DTSTAMP:20260421T114734
CREATED:20240217T173042Z
LAST-MODIFIED:20240217T173044Z
UID:10000240-1846589400-1846591200@pmawebsite.org
SUMMARY:Weekly Jummah
DESCRIPTION: 
URL:https://pmawebsite.org/event/weekly-jummah-2/2028-07-07/
LOCATION:Mosque\, 361 Villa St. Mountain View\, CA 94041\, CA\, 94041\, United States
ORGANIZER;CN="PMA":MAILTO:admin@pmawebsite.org
END:VEVENT
BEGIN:VEVENT
DTSTART;TZID=UTC:20280714T133000
DTEND;TZID=UTC:20280714T140000
DTSTAMP:20260421T114734
CREATED:20240217T173042Z
LAST-MODIFIED:20240217T173044Z
UID:10000241-1847194200-1847196000@pmawebsite.org
SUMMARY:Weekly Jummah
DESCRIPTION: 
URL:https://pmawebsite.org/event/weekly-jummah-2/2028-07-14/
LOCATION:Mosque\, 361 Villa St. Mountain View\, CA 94041\, CA\, 94041\, United States
ORGANIZER;CN="PMA":MAILTO:admin@pmawebsite.org
END:VEVENT
BEGIN:VEVENT
DTSTART;TZID=UTC:20280721T133000
DTEND;TZID=UTC:20280721T140000
DTSTAMP:20260421T114734
CREATED:20240217T173042Z
LAST-MODIFIED:20240217T173044Z
UID:10000242-1847799000-1847800800@pmawebsite.org
SUMMARY:Weekly Jummah
DESCRIPTION: 
URL:https://pmawebsite.org/event/weekly-jummah-2/2028-07-21/
LOCATION:Mosque\, 361 Villa St. Mountain View\, CA 94041\, CA\, 94041\, United States
ORGANIZER;CN="PMA":MAILTO:admin@pmawebsite.org
END:VEVENT
BEGIN:VEVENT
DTSTART;TZID=UTC:20280728T133000
DTEND;TZID=UTC:20280728T140000
DTSTAMP:20260421T114734
CREATED:20240217T173042Z
LAST-MODIFIED:20240217T173044Z
UID:10000243-1848403800-1848405600@pmawebsite.org
SUMMARY:Weekly Jummah
DESCRIPTION: 
URL:https://pmawebsite.org/event/weekly-jummah-2/2028-07-28/
LOCATION:Mosque\, 361 Villa St. Mountain View\, CA 94041\, CA\, 94041\, United States
ORGANIZER;CN="PMA":MAILTO:admin@pmawebsite.org
END:VEVENT
BEGIN:VEVENT
DTSTART;TZID=UTC:20280804T133000
DTEND;TZID=UTC:20280804T140000
DTSTAMP:20260421T114734
CREATED:20240217T173042Z
LAST-MODIFIED:20240217T173044Z
UID:10000244-1849008600-1849010400@pmawebsite.org
SUMMARY:Weekly Jummah
DESCRIPTION: 
URL:https://pmawebsite.org/event/weekly-jummah-2/2028-08-04/
LOCATION:Mosque\, 361 Villa St. Mountain View\, CA 94041\, CA\, 94041\, United States
ORGANIZER;CN="PMA":MAILTO:admin@pmawebsite.org
END:VEVENT
END:VCALENDAR