BEGIN:VCALENDAR
VERSION:2.0
PRODID:-//PMA - ECPv6.15.20//NONSGML v1.0//EN
CALSCALE:GREGORIAN
METHOD:PUBLISH
X-WR-CALNAME:PMA
X-ORIGINAL-URL:https://pmawebsite.org
X-WR-CALDESC:Events for PMA
REFRESH-INTERVAL;VALUE=DURATION:PT1H
X-Robots-Tag:noindex
X-PUBLISHED-TTL:PT1H
BEGIN:VTIMEZONE
TZID:UTC
BEGIN:STANDARD
TZOFFSETFROM:+0000
TZOFFSETTO:+0000
TZNAME:UTC
DTSTART:20220101T000000
END:STANDARD
END:VTIMEZONE
BEGIN:VEVENT
DTSTART;TZID=UTC:20231229T133000
DTEND;TZID=UTC:20231229T143000
DTSTAMP:20260422T224634
CREATED:20231203T103317Z
LAST-MODIFIED:20231203T103317Z
UID:10000004-1703856600-1703860200@pmawebsite.org
SUMMARY:Weekly Jummah
DESCRIPTION:
URL:https://pmawebsite.org/event/weekly-jummah/2023-12-29/
LOCATION:Mosque\, 361 Villa St. Mountain View\, CA 94041\, CA\, 94041\, United States
ORGANIZER;CN="PMA":MAILTO:admin@pmawebsite.org
END:VEVENT
BEGIN:VEVENT
DTSTART;TZID=UTC:20231222T133000
DTEND;TZID=UTC:20231222T143000
DTSTAMP:20260422T224634
CREATED:20231203T103317Z
LAST-MODIFIED:20231203T103317Z
UID:10000003-1703251800-1703255400@pmawebsite.org
SUMMARY:Weekly Jummah
DESCRIPTION:
URL:https://pmawebsite.org/event/weekly-jummah/2023-12-22/
LOCATION:Mosque\, 361 Villa St. Mountain View\, CA 94041\, CA\, 94041\, United States
ORGANIZER;CN="PMA":MAILTO:admin@pmawebsite.org
END:VEVENT
BEGIN:VEVENT
DTSTART;TZID=UTC:20231215T133000
DTEND;TZID=UTC:20231215T143000
DTSTAMP:20260422T224634
CREATED:20231203T103317Z
LAST-MODIFIED:20231203T103317Z
UID:10000002-1702647000-1702650600@pmawebsite.org
SUMMARY:Weekly Jummah
DESCRIPTION:
URL:https://pmawebsite.org/event/weekly-jummah/2023-12-15/
LOCATION:Mosque\, 361 Villa St. Mountain View\, CA 94041\, CA\, 94041\, United States
ORGANIZER;CN="PMA":MAILTO:admin@pmawebsite.org
END:VEVENT
BEGIN:VEVENT
DTSTART;TZID=UTC:20231208T133000
DTEND;TZID=UTC:20231208T143000
DTSTAMP:20260422T224634
CREATED:20231203T103317Z
LAST-MODIFIED:20231203T103317Z
UID:10000001-1702042200-1702045800@pmawebsite.org
SUMMARY:Weekly Jummah
DESCRIPTION:
URL:https://pmawebsite.org/event/weekly-jummah/2023-12-08/
LOCATION:Mosque\, 361 Villa St. Mountain View\, CA 94041\, CA\, 94041\, United States
ORGANIZER;CN="PMA":MAILTO:admin@pmawebsite.org
END:VEVENT
END:VCALENDAR