BEGIN:VCALENDAR
VERSION:2.0
PRODID:-//PMA - ECPv6.15.20//NONSGML v1.0//EN
CALSCALE:GREGORIAN
METHOD:PUBLISH
X-WR-CALNAME:PMA
X-ORIGINAL-URL:https://pmawebsite.org
X-WR-CALDESC:Events for PMA
REFRESH-INTERVAL;VALUE=DURATION:PT1H
X-Robots-Tag:noindex
X-PUBLISHED-TTL:PT1H
BEGIN:VTIMEZONE
TZID:UTC
BEGIN:STANDARD
TZOFFSETFROM:+0000
TZOFFSETTO:+0000
TZNAME:UTC
DTSTART:20240101T000000
END:STANDARD
END:VTIMEZONE
BEGIN:VEVENT
DTSTART;TZID=UTC:20250905T133000
DTEND;TZID=UTC:20250905T140000
DTSTAMP:20260421T140648
CREATED:20240217T173042Z
LAST-MODIFIED:20240217T173044Z
UID:10000092-1757079000-1757080800@pmawebsite.org
SUMMARY:Weekly Jummah
DESCRIPTION: 
URL:https://pmawebsite.org/event/weekly-jummah-2/2025-09-05/
LOCATION:Mosque\, 361 Villa St. Mountain View\, CA 94041\, CA\, 94041\, United States
ORGANIZER;CN="PMA":MAILTO:admin@pmawebsite.org
END:VEVENT
BEGIN:VEVENT
DTSTART;TZID=UTC:20250912T133000
DTEND;TZID=UTC:20250912T140000
DTSTAMP:20260421T140648
CREATED:20240217T173042Z
LAST-MODIFIED:20240217T173044Z
UID:10000093-1757683800-1757685600@pmawebsite.org
SUMMARY:Weekly Jummah
DESCRIPTION: 
URL:https://pmawebsite.org/event/weekly-jummah-2/2025-09-12/
LOCATION:Mosque\, 361 Villa St. Mountain View\, CA 94041\, CA\, 94041\, United States
ORGANIZER;CN="PMA":MAILTO:admin@pmawebsite.org
END:VEVENT
BEGIN:VEVENT
DTSTART;TZID=UTC:20250919T133000
DTEND;TZID=UTC:20250919T140000
DTSTAMP:20260421T140648
CREATED:20240217T173042Z
LAST-MODIFIED:20240217T173044Z
UID:10000094-1758288600-1758290400@pmawebsite.org
SUMMARY:Weekly Jummah
DESCRIPTION: 
URL:https://pmawebsite.org/event/weekly-jummah-2/2025-09-19/
LOCATION:Mosque\, 361 Villa St. Mountain View\, CA 94041\, CA\, 94041\, United States
ORGANIZER;CN="PMA":MAILTO:admin@pmawebsite.org
END:VEVENT
BEGIN:VEVENT
DTSTART;TZID=UTC:20250926T133000
DTEND;TZID=UTC:20250926T140000
DTSTAMP:20260421T140648
CREATED:20240217T173042Z
LAST-MODIFIED:20240217T173044Z
UID:10000095-1758893400-1758895200@pmawebsite.org
SUMMARY:Weekly Jummah
DESCRIPTION: 
URL:https://pmawebsite.org/event/weekly-jummah-2/2025-09-26/
LOCATION:Mosque\, 361 Villa St. Mountain View\, CA 94041\, CA\, 94041\, United States
ORGANIZER;CN="PMA":MAILTO:admin@pmawebsite.org
END:VEVENT
END:VCALENDAR