BEGIN:VCALENDAR
VERSION:2.0
PRODID:-//PMA - ECPv6.15.20//NONSGML v1.0//EN
CALSCALE:GREGORIAN
METHOD:PUBLISH
X-ORIGINAL-URL:https://pmawebsite.org
X-WR-CALDESC:Events for PMA
REFRESH-INTERVAL;VALUE=DURATION:PT1H
X-Robots-Tag:noindex
X-PUBLISHED-TTL:PT1H
BEGIN:VTIMEZONE
TZID:UTC
BEGIN:STANDARD
TZOFFSETFROM:+0000
TZOFFSETTO:+0000
TZNAME:UTC
DTSTART:20240101T000000
END:STANDARD
END:VTIMEZONE
BEGIN:VEVENT
DTSTART;TZID=UTC:20251003T133000
DTEND;TZID=UTC:20251003T140000
DTSTAMP:20260421T124503
CREATED:20240217T173042Z
LAST-MODIFIED:20240217T173044Z
UID:10000096-1759498200-1759500000@pmawebsite.org
SUMMARY:Weekly Jummah
DESCRIPTION: 
URL:https://pmawebsite.org/event/weekly-jummah-2/2025-10-03/
LOCATION:Mosque\, 361 Villa St. Mountain View\, CA 94041\, CA\, 94041\, United States
ORGANIZER;CN="PMA":MAILTO:admin@pmawebsite.org
END:VEVENT
BEGIN:VEVENT
DTSTART;TZID=UTC:20251010T133000
DTEND;TZID=UTC:20251010T140000
DTSTAMP:20260421T124503
CREATED:20240217T173042Z
LAST-MODIFIED:20240217T173044Z
UID:10000097-1760103000-1760104800@pmawebsite.org
SUMMARY:Weekly Jummah
DESCRIPTION: 
URL:https://pmawebsite.org/event/weekly-jummah-2/2025-10-10/
LOCATION:Mosque\, 361 Villa St. Mountain View\, CA 94041\, CA\, 94041\, United States
ORGANIZER;CN="PMA":MAILTO:admin@pmawebsite.org
END:VEVENT
BEGIN:VEVENT
DTSTART;TZID=UTC:20251017T133000
DTEND;TZID=UTC:20251017T140000
DTSTAMP:20260421T124503
CREATED:20240217T173042Z
LAST-MODIFIED:20240217T173044Z
UID:10000098-1760707800-1760709600@pmawebsite.org
SUMMARY:Weekly Jummah
DESCRIPTION: 
URL:https://pmawebsite.org/event/weekly-jummah-2/2025-10-17/
LOCATION:Mosque\, 361 Villa St. Mountain View\, CA 94041\, CA\, 94041\, United States
ORGANIZER;CN="PMA":MAILTO:admin@pmawebsite.org
END:VEVENT
BEGIN:VEVENT
DTSTART;TZID=UTC:20251024T133000
DTEND;TZID=UTC:20251024T140000
DTSTAMP:20260421T124503
CREATED:20240217T173042Z
LAST-MODIFIED:20240217T173044Z
UID:10000099-1761312600-1761314400@pmawebsite.org
SUMMARY:Weekly Jummah
DESCRIPTION: 
URL:https://pmawebsite.org/event/weekly-jummah-2/2025-10-24/
LOCATION:Mosque\, 361 Villa St. Mountain View\, CA 94041\, CA\, 94041\, United States
ORGANIZER;CN="PMA":MAILTO:admin@pmawebsite.org
END:VEVENT
BEGIN:VEVENT
DTSTART;TZID=UTC:20251031T133000
DTEND;TZID=UTC:20251031T140000
DTSTAMP:20260421T124503
CREATED:20240217T173042Z
LAST-MODIFIED:20240217T173044Z
UID:10000100-1761917400-1761919200@pmawebsite.org
SUMMARY:Weekly Jummah
DESCRIPTION: 
URL:https://pmawebsite.org/event/weekly-jummah-2/2025-10-31/
LOCATION:Mosque\, 361 Villa St. Mountain View\, CA 94041\, CA\, 94041\, United States
ORGANIZER;CN="PMA":MAILTO:admin@pmawebsite.org
END:VEVENT
END:VCALENDAR