BEGIN:VCALENDAR
VERSION:2.0
PRODID:-//PMA - ECPv6.15.20//NONSGML v1.0//EN
CALSCALE:GREGORIAN
METHOD:PUBLISH
X-WR-CALNAME:PMA
X-ORIGINAL-URL:https://pmawebsite.org
X-WR-CALDESC:Events for PMA
REFRESH-INTERVAL;VALUE=DURATION:PT1H
X-Robots-Tag:noindex
X-PUBLISHED-TTL:PT1H
BEGIN:VTIMEZONE
TZID:UTC
BEGIN:STANDARD
TZOFFSETFROM:+0000
TZOFFSETTO:+0000
TZNAME:UTC
DTSTART:20250101T000000
END:STANDARD
END:VTIMEZONE
BEGIN:VEVENT
DTSTART;TZID=UTC:20260102T133000
DTEND;TZID=UTC:20260102T140000
DTSTAMP:20260421T084931
CREATED:20240217T173042Z
LAST-MODIFIED:20240217T173044Z
UID:10000109-1767360600-1767362400@pmawebsite.org
SUMMARY:Weekly Jummah
DESCRIPTION: 
URL:https://pmawebsite.org/event/weekly-jummah-2/2026-01-02/
LOCATION:Mosque\, 361 Villa St. Mountain View\, CA 94041\, CA\, 94041\, United States
ORGANIZER;CN="PMA":MAILTO:admin@pmawebsite.org
END:VEVENT
BEGIN:VEVENT
DTSTART;TZID=UTC:20260109T133000
DTEND;TZID=UTC:20260109T140000
DTSTAMP:20260421T084931
CREATED:20240217T173042Z
LAST-MODIFIED:20240217T173044Z
UID:10000110-1767965400-1767967200@pmawebsite.org
SUMMARY:Weekly Jummah
DESCRIPTION: 
URL:https://pmawebsite.org/event/weekly-jummah-2/2026-01-09/
LOCATION:Mosque\, 361 Villa St. Mountain View\, CA 94041\, CA\, 94041\, United States
ORGANIZER;CN="PMA":MAILTO:admin@pmawebsite.org
END:VEVENT
BEGIN:VEVENT
DTSTART;TZID=UTC:20260116T133000
DTEND;TZID=UTC:20260116T140000
DTSTAMP:20260421T084931
CREATED:20240217T173042Z
LAST-MODIFIED:20240217T173044Z
UID:10000111-1768570200-1768572000@pmawebsite.org
SUMMARY:Weekly Jummah
DESCRIPTION: 
URL:https://pmawebsite.org/event/weekly-jummah-2/2026-01-16/
LOCATION:Mosque\, 361 Villa St. Mountain View\, CA 94041\, CA\, 94041\, United States
ORGANIZER;CN="PMA":MAILTO:admin@pmawebsite.org
END:VEVENT
BEGIN:VEVENT
DTSTART;TZID=UTC:20260123T133000
DTEND;TZID=UTC:20260123T140000
DTSTAMP:20260421T084931
CREATED:20240217T173042Z
LAST-MODIFIED:20240217T173044Z
UID:10000112-1769175000-1769176800@pmawebsite.org
SUMMARY:Weekly Jummah
DESCRIPTION: 
URL:https://pmawebsite.org/event/weekly-jummah-2/2026-01-23/
LOCATION:Mosque\, 361 Villa St. Mountain View\, CA 94041\, CA\, 94041\, United States
ORGANIZER;CN="PMA":MAILTO:admin@pmawebsite.org
END:VEVENT
BEGIN:VEVENT
DTSTART;TZID=UTC:20260130T133000
DTEND;TZID=UTC:20260130T140000
DTSTAMP:20260421T084931
CREATED:20240217T173042Z
LAST-MODIFIED:20240217T173044Z
UID:10000113-1769779800-1769781600@pmawebsite.org
SUMMARY:Weekly Jummah
DESCRIPTION: 
URL:https://pmawebsite.org/event/weekly-jummah-2/2026-01-30/
LOCATION:Mosque\, 361 Villa St. Mountain View\, CA 94041\, CA\, 94041\, United States
ORGANIZER;CN="PMA":MAILTO:admin@pmawebsite.org
END:VEVENT
END:VCALENDAR