BEGIN:VCALENDAR
VERSION:2.0
PRODID:-//PMA - ECPv6.15.20//NONSGML v1.0//EN
CALSCALE:GREGORIAN
METHOD:PUBLISH
X-ORIGINAL-URL:https://pmawebsite.org
X-WR-CALDESC:Events for PMA
REFRESH-INTERVAL;VALUE=DURATION:PT1H
X-Robots-Tag:noindex
X-PUBLISHED-TTL:PT1H
BEGIN:VTIMEZONE
TZID:UTC
BEGIN:STANDARD
TZOFFSETFROM:+0000
TZOFFSETTO:+0000
TZNAME:UTC
DTSTART:20270101T000000
END:STANDARD
END:VTIMEZONE
BEGIN:VEVENT
DTSTART;TZID=UTC:20281020T133000
DTEND;TZID=UTC:20281020T140000
DTSTAMP:20260422T000155
CREATED:20240217T173042Z
LAST-MODIFIED:20240217T173044Z
UID:10000255-1855661400-1855663200@pmawebsite.org
SUMMARY:Weekly Jummah
DESCRIPTION: 
URL:https://pmawebsite.org/event/weekly-jummah-2/2028-10-20/
LOCATION:Mosque\, 361 Villa St. Mountain View\, CA 94041\, CA\, 94041\, United States
ORGANIZER;CN="PMA":MAILTO:admin@pmawebsite.org
END:VEVENT
BEGIN:VEVENT
DTSTART;TZID=UTC:20281027T133000
DTEND;TZID=UTC:20281027T140000
DTSTAMP:20260422T000155
CREATED:20240217T173042Z
LAST-MODIFIED:20240217T173044Z
UID:10000256-1856266200-1856268000@pmawebsite.org
SUMMARY:Weekly Jummah
DESCRIPTION: 
URL:https://pmawebsite.org/event/weekly-jummah-2/2028-10-27/
LOCATION:Mosque\, 361 Villa St. Mountain View\, CA 94041\, CA\, 94041\, United States
ORGANIZER;CN="PMA":MAILTO:admin@pmawebsite.org
END:VEVENT
BEGIN:VEVENT
DTSTART;TZID=UTC:20281103T133000
DTEND;TZID=UTC:20281103T140000
DTSTAMP:20260422T000155
CREATED:20240217T173042Z
LAST-MODIFIED:20240217T173044Z
UID:10000257-1856871000-1856872800@pmawebsite.org
SUMMARY:Weekly Jummah
DESCRIPTION: 
URL:https://pmawebsite.org/event/weekly-jummah-2/2028-11-03/
LOCATION:Mosque\, 361 Villa St. Mountain View\, CA 94041\, CA\, 94041\, United States
ORGANIZER;CN="PMA":MAILTO:admin@pmawebsite.org
END:VEVENT
BEGIN:VEVENT
DTSTART;TZID=UTC:20281110T133000
DTEND;TZID=UTC:20281110T140000
DTSTAMP:20260422T000155
CREATED:20240217T173042Z
LAST-MODIFIED:20240217T173044Z
UID:10000258-1857475800-1857477600@pmawebsite.org
SUMMARY:Weekly Jummah
DESCRIPTION: 
URL:https://pmawebsite.org/event/weekly-jummah-2/2028-11-10/
LOCATION:Mosque\, 361 Villa St. Mountain View\, CA 94041\, CA\, 94041\, United States
ORGANIZER;CN="PMA":MAILTO:admin@pmawebsite.org
END:VEVENT
BEGIN:VEVENT
DTSTART;TZID=UTC:20281117T133000
DTEND;TZID=UTC:20281117T140000
DTSTAMP:20260422T000155
CREATED:20240217T173042Z
LAST-MODIFIED:20240217T173044Z
UID:10000259-1858080600-1858082400@pmawebsite.org
SUMMARY:Weekly Jummah
DESCRIPTION: 
URL:https://pmawebsite.org/event/weekly-jummah-2/2028-11-17/
LOCATION:Mosque\, 361 Villa St. Mountain View\, CA 94041\, CA\, 94041\, United States
ORGANIZER;CN="PMA":MAILTO:admin@pmawebsite.org
END:VEVENT
BEGIN:VEVENT
DTSTART;TZID=UTC:20281124T133000
DTEND;TZID=UTC:20281124T140000
DTSTAMP:20260422T000155
CREATED:20240217T173042Z
LAST-MODIFIED:20240217T173044Z
UID:10000260-1858685400-1858687200@pmawebsite.org
SUMMARY:Weekly Jummah
DESCRIPTION: 
URL:https://pmawebsite.org/event/weekly-jummah-2/2028-11-24/
LOCATION:Mosque\, 361 Villa St. Mountain View\, CA 94041\, CA\, 94041\, United States
ORGANIZER;CN="PMA":MAILTO:admin@pmawebsite.org
END:VEVENT
BEGIN:VEVENT
DTSTART;TZID=UTC:20281201T133000
DTEND;TZID=UTC:20281201T140000
DTSTAMP:20260422T000155
CREATED:20240217T173042Z
LAST-MODIFIED:20240217T173044Z
UID:10000261-1859290200-1859292000@pmawebsite.org
SUMMARY:Weekly Jummah
DESCRIPTION: 
URL:https://pmawebsite.org/event/weekly-jummah-2/2028-12-01/
LOCATION:Mosque\, 361 Villa St. Mountain View\, CA 94041\, CA\, 94041\, United States
ORGANIZER;CN="PMA":MAILTO:admin@pmawebsite.org
END:VEVENT
BEGIN:VEVENT
DTSTART;TZID=UTC:20281208T133000
DTEND;TZID=UTC:20281208T140000
DTSTAMP:20260422T000155
CREATED:20240217T173042Z
LAST-MODIFIED:20240217T173044Z
UID:10000262-1859895000-1859896800@pmawebsite.org
SUMMARY:Weekly Jummah
DESCRIPTION: 
URL:https://pmawebsite.org/event/weekly-jummah-2/2028-12-08/
LOCATION:Mosque\, 361 Villa St. Mountain View\, CA 94041\, CA\, 94041\, United States
ORGANIZER;CN="PMA":MAILTO:admin@pmawebsite.org
END:VEVENT
BEGIN:VEVENT
DTSTART;TZID=UTC:20281215T133000
DTEND;TZID=UTC:20281215T140000
DTSTAMP:20260422T000155
CREATED:20240217T173042Z
LAST-MODIFIED:20240217T173044Z
UID:10000263-1860499800-1860501600@pmawebsite.org
SUMMARY:Weekly Jummah
DESCRIPTION: 
URL:https://pmawebsite.org/event/weekly-jummah-2/2028-12-15/
LOCATION:Mosque\, 361 Villa St. Mountain View\, CA 94041\, CA\, 94041\, United States
ORGANIZER;CN="PMA":MAILTO:admin@pmawebsite.org
END:VEVENT
BEGIN:VEVENT
DTSTART;TZID=UTC:20281222T133000
DTEND;TZID=UTC:20281222T140000
DTSTAMP:20260422T000155
CREATED:20240217T173042Z
LAST-MODIFIED:20240217T173044Z
UID:10000264-1861104600-1861106400@pmawebsite.org
SUMMARY:Weekly Jummah
DESCRIPTION: 
URL:https://pmawebsite.org/event/weekly-jummah-2/2028-12-22/
LOCATION:Mosque\, 361 Villa St. Mountain View\, CA 94041\, CA\, 94041\, United States
ORGANIZER;CN="PMA":MAILTO:admin@pmawebsite.org
END:VEVENT
BEGIN:VEVENT
DTSTART;TZID=UTC:20281229T133000
DTEND;TZID=UTC:20281229T140000
DTSTAMP:20260422T000155
CREATED:20240217T173042Z
LAST-MODIFIED:20240217T173044Z
UID:10000265-1861709400-1861711200@pmawebsite.org
SUMMARY:Weekly Jummah
DESCRIPTION: 
URL:https://pmawebsite.org/event/weekly-jummah-2/2028-12-29/
LOCATION:Mosque\, 361 Villa St. Mountain View\, CA 94041\, CA\, 94041\, United States
ORGANIZER;CN="PMA":MAILTO:admin@pmawebsite.org
END:VEVENT
BEGIN:VEVENT
DTSTART;TZID=UTC:20290105T133000
DTEND;TZID=UTC:20290105T140000
DTSTAMP:20260422T000155
CREATED:20240217T173042Z
LAST-MODIFIED:20240217T173044Z
UID:10000266-1862314200-1862316000@pmawebsite.org
SUMMARY:Weekly Jummah
DESCRIPTION: 
URL:https://pmawebsite.org/event/weekly-jummah-2/2029-01-05/
LOCATION:Mosque\, 361 Villa St. Mountain View\, CA 94041\, CA\, 94041\, United States
ORGANIZER;CN="PMA":MAILTO:admin@pmawebsite.org
END:VEVENT
BEGIN:VEVENT
DTSTART;TZID=UTC:20290112T133000
DTEND;TZID=UTC:20290112T140000
DTSTAMP:20260422T000155
CREATED:20240217T173042Z
LAST-MODIFIED:20240217T173044Z
UID:10000267-1862919000-1862920800@pmawebsite.org
SUMMARY:Weekly Jummah
DESCRIPTION: 
URL:https://pmawebsite.org/event/weekly-jummah-2/2029-01-12/
LOCATION:Mosque\, 361 Villa St. Mountain View\, CA 94041\, CA\, 94041\, United States
ORGANIZER;CN="PMA":MAILTO:admin@pmawebsite.org
END:VEVENT
BEGIN:VEVENT
DTSTART;TZID=UTC:20290119T133000
DTEND;TZID=UTC:20290119T140000
DTSTAMP:20260422T000155
CREATED:20240217T173042Z
LAST-MODIFIED:20240217T173044Z
UID:10000268-1863523800-1863525600@pmawebsite.org
SUMMARY:Weekly Jummah
DESCRIPTION: 
URL:https://pmawebsite.org/event/weekly-jummah-2/2029-01-19/
LOCATION:Mosque\, 361 Villa St. Mountain View\, CA 94041\, CA\, 94041\, United States
ORGANIZER;CN="PMA":MAILTO:admin@pmawebsite.org
END:VEVENT
BEGIN:VEVENT
DTSTART;TZID=UTC:20290126T133000
DTEND;TZID=UTC:20290126T140000
DTSTAMP:20260422T000155
CREATED:20240217T173042Z
LAST-MODIFIED:20240217T173044Z
UID:10000269-1864128600-1864130400@pmawebsite.org
SUMMARY:Weekly Jummah
DESCRIPTION: 
URL:https://pmawebsite.org/event/weekly-jummah-2/2029-01-26/
LOCATION:Mosque\, 361 Villa St. Mountain View\, CA 94041\, CA\, 94041\, United States
ORGANIZER;CN="PMA":MAILTO:admin@pmawebsite.org
END:VEVENT
BEGIN:VEVENT
DTSTART;TZID=UTC:20290202T133000
DTEND;TZID=UTC:20290202T140000
DTSTAMP:20260422T000155
CREATED:20240217T173042Z
LAST-MODIFIED:20240217T173044Z
UID:10000270-1864733400-1864735200@pmawebsite.org
SUMMARY:Weekly Jummah
DESCRIPTION: 
URL:https://pmawebsite.org/event/weekly-jummah-2/2029-02-02/
LOCATION:Mosque\, 361 Villa St. Mountain View\, CA 94041\, CA\, 94041\, United States
ORGANIZER;CN="PMA":MAILTO:admin@pmawebsite.org
END:VEVENT
BEGIN:VEVENT
DTSTART;TZID=UTC:20290209T133000
DTEND;TZID=UTC:20290209T140000
DTSTAMP:20260422T000155
CREATED:20240217T173042Z
LAST-MODIFIED:20240217T173044Z
UID:10000271-1865338200-1865340000@pmawebsite.org
SUMMARY:Weekly Jummah
DESCRIPTION: 
URL:https://pmawebsite.org/event/weekly-jummah-2/2029-02-09/
LOCATION:Mosque\, 361 Villa St. Mountain View\, CA 94041\, CA\, 94041\, United States
ORGANIZER;CN="PMA":MAILTO:admin@pmawebsite.org
END:VEVENT
BEGIN:VEVENT
DTSTART;TZID=UTC:20290216T133000
DTEND;TZID=UTC:20290216T140000
DTSTAMP:20260422T000155
CREATED:20240217T173042Z
LAST-MODIFIED:20240217T173044Z
UID:10000272-1865943000-1865944800@pmawebsite.org
SUMMARY:Weekly Jummah
DESCRIPTION: 
URL:https://pmawebsite.org/event/weekly-jummah-2/2029-02-16/
LOCATION:Mosque\, 361 Villa St. Mountain View\, CA 94041\, CA\, 94041\, United States
ORGANIZER;CN="PMA":MAILTO:admin@pmawebsite.org
END:VEVENT
END:VCALENDAR